BEGIN:VCALENDAR
VERSION:2.0
PRODID:-//Puff and Brush Dallas - ECPv6.15.20//NONSGML v1.0//EN
CALSCALE:GREGORIAN
METHOD:PUBLISH
X-ORIGINAL-URL:https://puffandbrush.com
X-WR-CALDESC:Events for Puff and Brush Dallas
REFRESH-INTERVAL;VALUE=DURATION:PT1H
X-Robots-Tag:noindex
X-PUBLISHED-TTL:PT1H
BEGIN:VTIMEZONE
TZID:America/Chicago
BEGIN:DAYLIGHT
TZOFFSETFROM:-0600
TZOFFSETTO:-0500
TZNAME:CDT
DTSTART:20240310T080000
END:DAYLIGHT
BEGIN:STANDARD
TZOFFSETFROM:-0500
TZOFFSETTO:-0600
TZNAME:CST
DTSTART:20241103T070000
END:STANDARD
BEGIN:DAYLIGHT
TZOFFSETFROM:-0600
TZOFFSETTO:-0500
TZNAME:CDT
DTSTART:20250309T080000
END:DAYLIGHT
BEGIN:STANDARD
TZOFFSETFROM:-0500
TZOFFSETTO:-0600
TZNAME:CST
DTSTART:20251102T070000
END:STANDARD
BEGIN:DAYLIGHT
TZOFFSETFROM:-0600
TZOFFSETTO:-0500
TZNAME:CDT
DTSTART:20260308T080000
END:DAYLIGHT
BEGIN:STANDARD
TZOFFSETFROM:-0500
TZOFFSETTO:-0600
TZNAME:CST
DTSTART:20261101T070000
END:STANDARD
END:VTIMEZONE
BEGIN:VEVENT
DTSTART;TZID=America/Chicago:20251212T200000
DTEND;TZID=America/Chicago:20251212T223000
DTSTAMP:20260421T032951
CREATED:20251111T124110Z
LAST-MODIFIED:20251111T124209Z
UID:1949-1765569600-1765578600@puffandbrush.com
SUMMARY:PUFF AND BRUSH DALLAS - FRI 12/12 Winter Wonderland Glow Night
DESCRIPTION:Join us on Friday 12/12 for a glow in the dark paint night. Glow in the dark paint added to our paint collection and black lights will be on! We will provide all the art supplies and will have the vibes going\, just show up! BYOB event\, you may bring food\, snacks\, alcohol. Lots of parking available.
URL:https://puffandbrush.com/event/puff-and-brush-dallas-fri-12-12-winter-wonderland-glow-night/
LOCATION:Puff and Brush Dallas\, 3939 S Polk St suite 222\, Dallas\, Texas\, 75224
END:VEVENT
END:VCALENDAR