BEGIN:VCALENDAR
VERSION:2.0
PRODID:-//Puff and Brush Dallas - ECPv6.15.20//NONSGML v1.0//EN
CALSCALE:GREGORIAN
METHOD:PUBLISH
X-ORIGINAL-URL:https://puffandbrush.com
X-WR-CALDESC:Events for Puff and Brush Dallas
REFRESH-INTERVAL;VALUE=DURATION:PT1H
X-Robots-Tag:noindex
X-PUBLISHED-TTL:PT1H
BEGIN:VTIMEZONE
TZID:America/Chicago
BEGIN:DAYLIGHT
TZOFFSETFROM:-0600
TZOFFSETTO:-0500
TZNAME:CDT
DTSTART:20240310T080000
END:DAYLIGHT
BEGIN:STANDARD
TZOFFSETFROM:-0500
TZOFFSETTO:-0600
TZNAME:CST
DTSTART:20241103T070000
END:STANDARD
BEGIN:DAYLIGHT
TZOFFSETFROM:-0600
TZOFFSETTO:-0500
TZNAME:CDT
DTSTART:20250309T080000
END:DAYLIGHT
BEGIN:STANDARD
TZOFFSETFROM:-0500
TZOFFSETTO:-0600
TZNAME:CST
DTSTART:20251102T070000
END:STANDARD
BEGIN:DAYLIGHT
TZOFFSETFROM:-0600
TZOFFSETTO:-0500
TZNAME:CDT
DTSTART:20260308T080000
END:DAYLIGHT
BEGIN:STANDARD
TZOFFSETFROM:-0500
TZOFFSETTO:-0600
TZNAME:CST
DTSTART:20261101T070000
END:STANDARD
END:VTIMEZONE
BEGIN:VEVENT
DTSTART;TZID=America/Chicago:20250517T150000
DTEND;TZID=America/Chicago:20250517T173000
DTSTAMP:20260421T162839
CREATED:20250415T223741Z
LAST-MODIFIED:20250514T180420Z
UID:286-1747494000-1747503000@puffandbrush.com
SUMMARY:Puff and Brush Dallas Sat 5/17 at 3PM
DESCRIPTION:
URL:https://puffandbrush.com/event/puff-and-brush-dallas-sat-5-17-at-3pm/
LOCATION:Puff and Brush Dallas\, 3939 S Polk St suite 222\, Dallas\, Texas\, 75224
CATEGORIES:Puff and Brush
END:VEVENT
BEGIN:VEVENT
DTSTART;TZID=America/Chicago:20250517T200000
DTEND;TZID=America/Chicago:20250517T223000
DTSTAMP:20260421T162839
CREATED:20250415T224417Z
LAST-MODIFIED:20250517T222035Z
UID:289-1747512000-1747521000@puffandbrush.com
SUMMARY:Puff and Brush Dallas Sat 5/17 at 8PM
DESCRIPTION:
URL:https://puffandbrush.com/event/puff-and-brush-dallas-sat-5-17-at-8pm/
LOCATION:Puff and Brush Dallas\, 3939 S Polk St suite 222\, Dallas\, Texas\, 75224
CATEGORIES:Puff and Brush
END:VEVENT
END:VCALENDAR